BEGIN:VCALENDAR
VERSION:2.0
PRODID:-//www.bym-rsf.org//NONSGML kigkonsult.se iCalcreator 2.30.10//
CALSCALE:GREGORIAN
METHOD:PUBLISH
UID:ca0e8513-203b-4fa7-85c4-51855f5e605b
X-WR-CALDESC:Friends can also join at the Zoom link below.
X-WR-RELCALID:50d092285ecb85c31afc247e64888329
X-WR-TIMEZONE:America/New_York
BEGIN:VTIMEZONE
TZID:America/New_York
BEGIN:STANDARD
TZNAME:EST
DTSTART:20251102T020000
TZOFFSETFROM:-0400
TZOFFSETTO:-0500
RDATE:20261101T020000
END:STANDARD
BEGIN:DAYLIGHT
TZNAME:EDT
DTSTART:20260308T020000
TZOFFSETFROM:-0500
TZOFFSETTO:-0400
RDATE:20270314T020000
END:DAYLIGHT
END:VTIMEZONE
BEGIN:VEVENT
UID:3068b197-99f3-4656-a796-a6a9eedbdcd8
DTSTAMP:20260423T121736Z
DESCRIPTION:Friends can also join at the Zoom link below.
DTSTART;TZID=America/New_York:20260314T110000
DTEND;TZID=America/New_York:20260314T123000
LOCATION:Friends House Miller Center\, 17340 Quaker Lane\, Sandy Spring\, M
 D 20860 US
SUMMARY:Memorial Meeting for Byron Sandford
END:VEVENT
END:VCALENDAR
