BEGIN:VCALENDAR
VERSION:2.0
PRODID:-//www.bym-rsf.org//NONSGML kigkonsult.se iCalcreator 2.30.10//
CALSCALE:GREGORIAN
METHOD:PUBLISH
UID:dd85d9ed-f9c5-4eec-a88f-93fdee82e65a
X-WR-CALDESC:Calling all Spirit Led\, Hands on\, Energy workers! This is en
 visioned as a time get to know one another\, to give and receive work\, an
 d to talk about way forward as a cohort of healers in a deeply worshipful 
 setting.\n
X-WR-RELCALID:39fa3812132ba2d7abf70477acda9dc6
X-WR-TIMEZONE:America/New_York
BEGIN:VTIMEZONE
TZID:America/New_York
BEGIN:STANDARD
TZNAME:EST
DTSTART:20241103T020000
TZOFFSETFROM:-0400
TZOFFSETTO:-0500
RDATE:20251102T020000
END:STANDARD
BEGIN:DAYLIGHT
TZNAME:EDT
DTSTART:20250309T020000
TZOFFSETFROM:-0500
TZOFFSETTO:-0400
RDATE:20260308T020000
END:DAYLIGHT
END:VTIMEZONE
BEGIN:VEVENT
UID:e60f6ec4-46f1-40f6-9766-aaaac286c724
DTSTAMP:20260422T211409Z
DESCRIPTION:Calling all Spirit Led\, Hands on\, Energy workers! This is env
 isioned as a time get to know one another\, to give and receive work\, and
  to talk about way forward as a cohort of healers in a deeply worshipful s
 etting.\n
DTSTART;TZID=America/New_York:20250328T060000
DTEND;TZID=America/New_York:20250330T060001
LOCATION:Gunpowder Friends Meeting\, 14934 Pricefille Road\, Sparks Glencoe
 \, MD 21152 US
SUMMARY:Gathering of Healers
END:VEVENT
END:VCALENDAR
